BEGIN:VCALENDAR
VERSION:2.0
PRODID:-//time.now/holidays//NONSGML v1.0//EN
BEGIN:VEVENT
UID:866405a9-0011-47ac-9b0a-6f810a931636
DTSTAMP:20260420T164417Z
DTSTART;VALUE=DATE:20260915
SUMMARY:Bocage Day (Portugal)
END:VEVENT
END:VCALENDAR