BEGIN:VCALENDAR
VERSION:2.0
PRODID:-//time.now/holidays//NONSGML v1.0//EN
BEGIN:VEVENT
UID:1ff2f408-8386-48f8-9076-7963f27b2fe6
DTSTAMP:20260419T172737Z
DTSTART;VALUE=DATE:20260106
SUMMARY:Epiphany (Pologne)
END:VEVENT
END:VCALENDAR