BEGIN:VCALENDAR
VERSION:2.0
PRODID:-//time.now/holidays//NONSGML v1.0//EN
BEGIN:VEVENT
UID:50a217ad-697d-4f0e-8418-3d652e02af07
DTSTAMP:20260420T030437Z
DTSTART;VALUE=DATE:20260501
SUMMARY:Labor Day (Philippines)
END:VEVENT
END:VCALENDAR