BEGIN:VCALENDAR
VERSION:2.0
PRODID:-//time.now/holidays//NONSGML v1.0//EN
BEGIN:VEVENT
UID:4862eecc-72e7-4cdc-b26a-a7940d39b30f
DTSTAMP:20260420T025454Z
DTSTART;VALUE=DATE:20260612
SUMMARY:Independence Day (Philippines)
END:VEVENT
END:VCALENDAR