BEGIN:VCALENDAR
VERSION:2.0
PRODID:-//time.now/holidays//NONSGML v1.0//EN
BEGIN:VEVENT
UID:a9ab1d3e-6485-4aaf-9dce-e1a73af63aba
DTSTAMP:20260420T162125Z
DTSTART;VALUE=DATE:20250512
SUMMARY:Elections special (non-working) day (Philippines)
END:VEVENT
END:VCALENDAR