BEGIN:VCALENDAR
VERSION:2.0
PRODID:-//time.now/holidays//NONSGML v1.0//EN
BEGIN:VEVENT
UID:d9d0dfe6-ad93-4244-9633-2eab4811458d
DTSTAMP:20260420T032930Z
DTSTART;VALUE=DATE:20261130
SUMMARY:Bonifacio Day (Philippines)
END:VEVENT
END:VCALENDAR