BEGIN:VCALENDAR
VERSION:2.0
PRODID:-//time.now/holidays//NONSGML v1.0//EN
BEGIN:VEVENT
UID:e523834c-dbbf-4205-be65-bcd72a57e16a
DTSTAMP:20260420T053256Z
DTSTART;VALUE=DATE:20250727
SUMMARY:Additional special (non-working) day (Philippines)
END:VEVENT
END:VCALENDAR