BEGIN:VCALENDAR
VERSION:2.0
PRODID:-//time.now/holidays//NONSGML v1.0//EN
BEGIN:VEVENT
UID:dcee2f02-76ee-4146-8b06-484170030d8c
DTSTAMP:20260420T025631Z
DTSTART;VALUE=DATE:20260728
SUMMARY:Independence Day (Pérou)
END:VEVENT
END:VCALENDAR