BEGIN:VCALENDAR
VERSION:2.0
PRODID:-//time.now/holidays//NONSGML v1.0//EN
BEGIN:VEVENT
UID:96b45dde-277d-4ecc-ae09-046934f66420
DTSTAMP:20260422T083639Z
DTSTART;VALUE=DATE:20260806
SUMMARY:Battle of Junín Day (Pérou)
END:VEVENT
END:VCALENDAR