BEGIN:VCALENDAR
VERSION:2.0
PRODID:-//time.now/holidays//NONSGML v1.0//EN
BEGIN:VEVENT
UID:ede7168c-d7f5-417d-91e9-bce6b40a70e4
DTSTAMP:20260421T035632Z
DTSTART;VALUE=DATE:20210108
SUMMARY:State Funeral of Sir Mekere Morauta (Papouasie-Nouvelle-Guinée)
END:VEVENT
END:VCALENDAR