BEGIN:VCALENDAR
VERSION:2.0
PRODID:-//time.now/holidays//NONSGML v1.0//EN
BEGIN:VEVENT
UID:2367abc5-bd52-4cd5-9b8c-a4ac33e1fd36
DTSTAMP:20260422T103915Z
DTSTART;VALUE=DATE:20260723
SUMMARY:Papua New Guinea Remembrance Day (Papouasie-Nouvelle-Guinée)
END:VEVENT
END:VCALENDAR