BEGIN:VCALENDAR
VERSION:2.0
PRODID:-//time.now/holidays//NONSGML v1.0//EN
BEGIN:VEVENT
UID:11370c12-3a2e-49d8-8ffe-7ca2ffd5c180
DTSTAMP:20260422T060345Z
DTSTART;VALUE=DATE:20340102
SUMMARY:New Year's Day (observed) (Papouasie-Nouvelle-Guinée)
END:VEVENT
END:VCALENDAR