BEGIN:VCALENDAR
VERSION:2.0
PRODID:-//time.now/holidays//NONSGML v1.0//EN
BEGIN:VEVENT
UID:a4df8c72-ae8a-4c8c-ab71-ce0fb6679b70
DTSTAMP:20260420T194503Z
DTSTART;VALUE=DATE:20290917
SUMMARY:Independence Day (observed) (Papouasie-Nouvelle-Guinée)
END:VEVENT
END:VCALENDAR