BEGIN:VCALENDAR
VERSION:2.0
PRODID:-//time.now/holidays//NONSGML v1.0//EN
BEGIN:VEVENT
UID:d63228b7-0505-4b34-863e-b3d4d9eeb816
DTSTAMP:20260422T105916Z
DTSTART;VALUE=DATE:20230224
SUMMARY:Grand Chief Sir Michael Somare Remembrance Day (observed) (Papouasie-Nouvelle-Guinée)
END:VEVENT
END:VCALENDAR