BEGIN:VCALENDAR
VERSION:2.0
PRODID:-//time.now/holidays//NONSGML v1.0//EN
BEGIN:VEVENT
UID:692d494f-41bb-4a26-9cf5-402f1c2132e9
DTSTAMP:20260422T090707Z
DTSTART;VALUE=DATE:20331227
SUMMARY:Christmas Day (observed) (Papouasie-Nouvelle-Guinée)
END:VEVENT
END:VCALENDAR