BEGIN:VCALENDAR
VERSION:2.0
PRODID:-//time.now/holidays//NONSGML v1.0//EN
BEGIN:VEVENT
UID:e0966482-0287-439e-bfc7-bca6d686d620
DTSTAMP:20260422T150017Z
DTSTART;VALUE=DATE:20240701
SUMMARY:Presidential Inauguration Day (Panama)
END:VEVENT
END:VCALENDAR