BEGIN:VCALENDAR
VERSION:2.0
PRODID:-//time.now/holidays//NONSGML v1.0//EN
BEGIN:VEVENT
UID:7a9025f8-8e88-470d-ac9b-3ddd8220a55b
DTSTAMP:20260420T142126Z
DTSTART;VALUE=DATE:20260101
SUMMARY:New Year's Day (Panama)
END:VEVENT
END:VCALENDAR