BEGIN:VCALENDAR
VERSION:2.0
PRODID:-//time.now/holidays//NONSGML v1.0//EN
BEGIN:VEVENT
UID:a28b91ce-a664-40e3-8275-49b9680fa130
DTSTAMP:20260420T091151Z
DTSTART;VALUE=DATE:20271129
SUMMARY:Independence Day (observed) (Panama)
END:VEVENT
END:VCALENDAR