BEGIN:VCALENDAR
VERSION:2.0
PRODID:-//time.now/holidays//NONSGML v1.0//EN
BEGIN:VEVENT
UID:0dce3b91-b1d9-4f6d-bf87-a4a4ac6d9951
DTSTAMP:20260420T145901Z
DTSTART;VALUE=DATE:20331226
SUMMARY:Christmas Day (observed) (Panama)
END:VEVENT
END:VCALENDAR