BEGIN:VCALENDAR
VERSION:2.0
PRODID:-//time.now/holidays//NONSGML v1.0//EN
BEGIN:VEVENT
UID:003523f8-763a-41ec-9410-6936c06c99e0
DTSTAMP:20260420T195210Z
DTSTART;VALUE=DATE:20260316
SUMMARY:Youth Day (observed) (Palaos)
END:VEVENT
END:VCALENDAR