BEGIN:VCALENDAR
VERSION:2.0
PRODID:-//time.now/holidays//NONSGML v1.0//EN
BEGIN:VEVENT
UID:401b5fbf-b8b1-4ee2-a915-acb84501aaf9
DTSTAMP:20260420T200105Z
DTSTART;VALUE=DATE:20261023
SUMMARY:United Nations Day (observed) (Palaos)
END:VEVENT
END:VCALENDAR