BEGIN:VCALENDAR
VERSION:2.0
PRODID:-//time.now/holidays//NONSGML v1.0//EN
BEGIN:VEVENT
UID:8147278b-9035-44a4-b974-51f934ab0a46
DTSTAMP:20260420T194230Z
DTSTART;VALUE=DATE:20260505
SUMMARY:Senior Citizens Day (Palaos)
END:VEVENT
END:VCALENDAR