BEGIN:VCALENDAR
VERSION:2.0
PRODID:-//time.now/holidays//NONSGML v1.0//EN
BEGIN:VEVENT
UID:1ffe030e-00aa-43a3-9a33-e32ca32c8365
DTSTAMP:20260420T183042Z
DTSTART;VALUE=DATE:20260601
SUMMARY:President's Day (Palaos)
END:VEVENT
END:VCALENDAR