BEGIN:VCALENDAR
VERSION:2.0
PRODID:-//time.now/holidays//NONSGML v1.0//EN
BEGIN:VEVENT
UID:16718473-806e-4aa6-8b5c-598f3ddd1709
DTSTAMP:20260420T203500Z
DTSTART;VALUE=DATE:20300531
SUMMARY:President's Day (observed) (Palaos)
END:VEVENT
END:VCALENDAR