BEGIN:VCALENDAR
VERSION:2.0
PRODID:-//time.now/holidays//NONSGML v1.0//EN
BEGIN:VEVENT
UID:9eb91095-27ef-4bdc-bbae-f971f1fb7d3b
DTSTAMP:20260420T191953Z
DTSTART;VALUE=DATE:20271231
SUMMARY:New Year's Day (observed) (Palaos)
END:VEVENT
END:VCALENDAR