BEGIN:VCALENDAR
VERSION:2.0
PRODID:-//time.now/holidays//NONSGML v1.0//EN
BEGIN:VEVENT
UID:f0b5e35b-705c-47c2-863a-382e492a8d24
DTSTAMP:20260420T064331Z
DTSTART;VALUE=DATE:20281002
SUMMARY:Independence Day (observed) (Palaos)
END:VEVENT
END:VCALENDAR