BEGIN:VCALENDAR
VERSION:2.0
PRODID:-//time.now/holidays//NONSGML v1.0//EN
BEGIN:VEVENT
UID:60500ccb-0439-43e6-b6f7-104ea6b56c37
DTSTAMP:20260420T205131Z
DTSTART;VALUE=DATE:20261127
SUMMARY:Family Day (Palaos)
END:VEVENT
END:VCALENDAR