BEGIN:VCALENDAR
VERSION:2.0
PRODID:-//time.now/holidays//NONSGML v1.0//EN
BEGIN:VEVENT
UID:1e21f86c-942c-4d77-8036-5f9d3e550580
DTSTAMP:20260420T135127Z
DTSTART;VALUE=DATE:20261225
SUMMARY:Christmas Day (Palaos)
END:VEVENT
END:VCALENDAR