BEGIN:VCALENDAR
VERSION:2.0
PRODID:-//time.now/holidays//NONSGML v1.0//EN
BEGIN:VEVENT
UID:94d43c01-d6bd-4b33-8786-088959db533b
DTSTAMP:20260420T185037Z
DTSTART;VALUE=DATE:20261225
SUMMARY:Quaid-e-Azam Day (Pakistan)
END:VEVENT
END:VCALENDAR