BEGIN:VCALENDAR
VERSION:2.0
PRODID:-//time.now/holidays//NONSGML v1.0//EN
BEGIN:VEVENT
UID:6a348f88-2d18-4b3f-bf2c-a7486e2e7dd6
DTSTAMP:20260420T075319Z
DTSTART;VALUE=DATE:20260501
SUMMARY:Labor Day (Pakistan)
END:VEVENT
END:VCALENDAR