BEGIN:VCALENDAR
VERSION:2.0
PRODID:-//time.now/holidays//NONSGML v1.0//EN
BEGIN:VEVENT
UID:13bac406-3243-428b-a597-55487a379d52
DTSTAMP:20260422T223516Z
DTSTART;VALUE=DATE:20260814
SUMMARY:Independence Day (Pakistan)
END:VEVENT
END:VCALENDAR