BEGIN:VCALENDAR
VERSION:2.0
PRODID:-//time.now/holidays//NONSGML v1.0//EN
BEGIN:VEVENT
UID:6c00d091-81d0-49a0-b964-8f6383098642
DTSTAMP:20260420T183224Z
DTSTART;VALUE=DATE:20240617
SUMMARY:Eid al-Adha (Pakistan)
END:VEVENT
END:VCALENDAR