BEGIN:VCALENDAR
VERSION:2.0
PRODID:-//time.now/holidays//NONSGML v1.0//EN
BEGIN:VEVENT
UID:0d0f6a79-88cc-4a43-8154-a2d9aa709c96
DTSTAMP:20260420T170624Z
DTSTART;VALUE=DATE:20240715
SUMMARY:Ashura (Pakistan)
END:VEVENT
END:VCALENDAR