BEGIN:VCALENDAR
VERSION:2.0
PRODID:-//time.now/holidays//NONSGML v1.0//EN
BEGIN:VEVENT
UID:a3a4f7dd-f4c3-4fb0-b798-e0e480904fd3
DTSTAMP:20260420T153838Z
DTSTART;VALUE=DATE:20260111
SUMMARY:Sultan's Accession Day (Oman)
END:VEVENT
END:VCALENDAR