BEGIN:VCALENDAR
VERSION:2.0
PRODID:-//time.now/holidays//NONSGML v1.0//EN
BEGIN:VEVENT
UID:617f71ec-1d4b-4a62-85dd-a2e90f7bd232
DTSTAMP:20260420T061343Z
DTSTART;VALUE=DATE:20240707
SUMMARY:Islamic New Year (Oman)
END:VEVENT
END:VCALENDAR