BEGIN:VCALENDAR
VERSION:2.0
PRODID:-//time.now/holidays//NONSGML v1.0//EN
BEGIN:VEVENT
UID:07819670-e80f-48e9-acd7-b7e2ff9f383f
DTSTAMP:20260420T122629Z
DTSTART;VALUE=DATE:20260616
SUMMARY:Islamic New Year (estimated) (Oman)
END:VEVENT
END:VCALENDAR