BEGIN:VCALENDAR
VERSION:2.0
PRODID:-//time.now/holidays//NONSGML v1.0//EN
BEGIN:VEVENT
UID:4cfeb642-8bf7-43c7-a352-4977ac9f40b1
DTSTAMP:20260420T114522Z
DTSTART;VALUE=DATE:20260524
SUMMARY:Whit Sunday (Norvège)
END:VEVENT
END:VCALENDAR