BEGIN:VCALENDAR
VERSION:2.0
PRODID:-//time.now/holidays//NONSGML v1.0//EN
BEGIN:VEVENT
UID:2f99ecc5-b942-4ed7-962b-125aa9c8312c
DTSTAMP:20260420T152313Z
DTSTART;VALUE=DATE:20260402
SUMMARY:Maundy Thursday (Norvège)
END:VEVENT
END:VCALENDAR