BEGIN:VCALENDAR
VERSION:2.0
PRODID:-//time.now/holidays//NONSGML v1.0//EN
BEGIN:VEVENT
UID:c1e2c870-f008-41f3-b7d9-6e79d4bec286
DTSTAMP:20260420T053438Z
DTSTART;VALUE=DATE:20260403
SUMMARY:Good Friday (Norvège)
END:VEVENT
END:VCALENDAR