BEGIN:VCALENDAR
VERSION:2.0
PRODID:-//time.now/holidays//NONSGML v1.0//EN
BEGIN:VEVENT
UID:795abee1-4b8d-45eb-aa5d-1a000a5a552c
DTSTAMP:20260420T130010Z
DTSTART;VALUE=DATE:20260514
SUMMARY:Ascension Day (Norvège)
END:VEVENT
END:VCALENDAR