BEGIN:VCALENDAR
VERSION:2.0
PRODID:-//time.now/holidays//NONSGML v1.0//EN
BEGIN:VEVENT
UID:02cb7c66-e8a9-47ca-9a25-8bb9841dc38f
DTSTAMP:20260422T090508Z
DTSTART;VALUE=DATE:20261126
SUMMARY:Thanksgiving Day (Îles Mariannes du Nord)
END:VEVENT
END:VCALENDAR