BEGIN:VCALENDAR
VERSION:2.0
PRODID:-//time.now/holidays//NONSGML v1.0//EN
BEGIN:VEVENT
UID:99fe1b19-7c32-4422-ac56-b8e6c50146e6
DTSTAMP:20260420T215255Z
DTSTART;VALUE=DATE:20260907
SUMMARY:Labor Day (Îles Mariannes du Nord)
END:VEVENT
END:VCALENDAR