BEGIN:VCALENDAR
VERSION:2.0
PRODID:-//time.now/holidays//NONSGML v1.0//EN
BEGIN:VEVENT
UID:6f8ba3f8-5631-4682-8932-f657a2bf5963
DTSTAMP:20260423T001123Z
DTSTART;VALUE=DATE:20270618
SUMMARY:Juneteenth National Independence Day (observed) (Îles Mariannes du Nord)
END:VEVENT
END:VCALENDAR