BEGIN:VCALENDAR
VERSION:2.0
PRODID:-//time.now/holidays//NONSGML v1.0//EN
BEGIN:VEVENT
UID:c6ed3bd7-cc2f-4188-860a-a5d885a7188b
DTSTAMP:20260422T032207Z
DTSTART;VALUE=DATE:20261103
SUMMARY:Election Day (Îles Mariannes du Nord)
END:VEVENT
END:VCALENDAR