BEGIN:VCALENDAR
VERSION:2.0
PRODID:-//time.now/holidays//NONSGML v1.0//EN
BEGIN:VEVENT
UID:8d0771b5-5336-4d5d-9665-56028544c731
DTSTAMP:20260422T134313Z
DTSTART;VALUE=DATE:20260324
SUMMARY:Commonwealth Covenant Day (Îles Mariannes du Nord)
END:VEVENT
END:VCALENDAR