BEGIN:VCALENDAR
VERSION:2.0
PRODID:-//time.now/holidays//NONSGML v1.0//EN
BEGIN:VEVENT
UID:0a950b29-d4dc-4cca-973c-0daa1081d450
DTSTAMP:20260422T090418Z
DTSTART;VALUE=DATE:20261225
SUMMARY:Christmas Day (Îles Mariannes du Nord)
END:VEVENT
END:VCALENDAR