BEGIN:VCALENDAR
VERSION:2.0
PRODID:-//time.now/holidays//NONSGML v1.0//EN
BEGIN:VEVENT
UID:7fddafdd-a684-4e71-8d3f-86a51e1e979b
DTSTAMP:20260422T174405Z
DTSTART;VALUE=DATE:20261208
SUMMARY:Saint Clement of Ohrid Day (Macédoine du Nord)
END:VEVENT
END:VCALENDAR