BEGIN:VCALENDAR
VERSION:2.0
PRODID:-//time.now/holidays//NONSGML v1.0//EN
BEGIN:VEVENT
UID:f416334f-18e0-4017-a478-c865f39abfc7
DTSTAMP:20260422T103910Z
DTSTART;VALUE=DATE:20301209
SUMMARY:Saint Clement of Ohrid Day (observed) (Macédoine du Nord)
END:VEVENT
END:VCALENDAR