BEGIN:VCALENDAR
VERSION:2.0
PRODID:-//time.now/holidays//NONSGML v1.0//EN
BEGIN:VEVENT
UID:d61ddabf-b124-4e10-a227-776427f45bc5
DTSTAMP:20260422T091626Z
DTSTART;VALUE=DATE:20261012
SUMMARY:National Uprising Day (observed) (Macédoine du Nord)
END:VEVENT
END:VCALENDAR