BEGIN:VCALENDAR
VERSION:2.0
PRODID:-//time.now/holidays//NONSGML v1.0//EN
BEGIN:VEVENT
UID:03f73859-733a-4e4d-9648-feebf9604850
DTSTAMP:20260420T183935Z
DTSTART;VALUE=DATE:20300909
SUMMARY:Independence Day (observed) (Macédoine du Nord)
END:VEVENT
END:VCALENDAR